BEGIN:VCALENDAR
VERSION:2.0
PRODID:-//wp-events-plugin.com//7.2.3.1//EN
BEGIN:VEVENT
UID:53@blackingastro.org
DTSTART:20230420T000000Z
DTEND:20230420T003000Z
DTSTAMP:20240612T185311Z
URL:https://blackingastro.org/events/a-chat-with-kelly-jenrette-for-nation
 al-minority-health-month-nmhm/
SUMMARY:A Chat with Kelly Jenrette for National Minority Health Month (NMHM
 )!
DESCRIPTION:April is NMHM. This year’s theme is “Healthy communities bu
 ild a healthy nation.”\n\nHear from Emmy-nominated actress Kelly M. Jenr
 ette of *Annie*\, *The Handmaid’s Tale* and *All American: Homecoming*\,
  the spinoff show for The CW’s hit show *All American*\, and more\, abou
 t her work\, and her experience as a caregiver of her dear friend whom she
  lost to early age onset colorectal cancer.
ATTACH;FMTTYPE=image/jpeg:https://blackingastro.org/wp-content/uploads/202
 4/06/ABGH_BIG_News_Newsletter_Vol_9_-March_2023.jpg
CATEGORIES:ABGH Events
END:VEVENT
END:VCALENDAR