BEGIN:VCALENDAR
VERSION:2.0
PRODID:-//wp-events-plugin.com//7.2.3.1//EN
BEGIN:VEVENT
UID:36@blackingastro.org
DTSTART:20211207T000000Z
DTEND:20211207T000000Z
DTSTAMP:20240612T181450Z
URL:https://blackingastro.org/events/abgh-and-the-color-of-crohns-and-chro
 nic-illness-host-tyler-j-williams/
SUMMARY:ABGH and The Color of Crohn’s and Chronic Illness host Tyler J. W
 illiams
DESCRIPTION:The Association of Black Gastroenterologists and Hepatologists 
 (ABGH) and The Color of Crohn's & Chronic Illness (COCCI) are honored to h
 ost Mr. Tyler James Williams\, well known for his roles on Everybody Hates
  Chris\, Let It Shine\, Dear White People\, The Walking Dead\, and Abbott 
 Elementary\, premiering 12/7/21 on ABC\, as we have a candid conversation 
 about his journey with Crohn's disease.
ATTACH;FMTTYPE=image/jpeg:https://blackingastro.org/wp-content/uploads/202
 4/06/ABGH-and-The-Color-of-Crohns.png
CATEGORIES:ABGH Events,Crohn's and Colitis Awareness Week
END:VEVENT
END:VCALENDAR