BEGIN:VCALENDAR
VERSION:2.0
PRODID:-//wp-events-plugin.com//7.2.3.1//EN
BEGIN:VEVENT
UID:99@blackingastro.org
DTSTART:20260427T230000Z
DTEND:20260428T000000Z
DTSTAMP:20260330T131118Z
URL:https://blackingastro.org/events/abgh-rising-2026/
SUMMARY:ABGH Rising 2026
DESCRIPTION:ABGH Rising is a mentorship program offering practical tips to 
 help you succeed in the GI fellowship application process — from persona
 l statements to letters of recommendation and research strategy.
ATTACH;FMTTYPE=image/jpeg:https://blackingastro.org/wp-content/uploads/202
 6/03/ABGH_RISING_2025_-_how_to_be_successful_in_gi_fellowship-e17748762652
 62.png
END:VEVENT
END:VCALENDAR