BEGIN:VCALENDAR
VERSION:2.0
PRODID:-//wp-events-plugin.com//7.2.3.1//EN
BEGIN:VEVENT
UID:94@blackingastro.org
DTSTART:20251205T160000Z
DTEND:20251205T160000Z
DTSTAMP:20251209T151021Z
URL:https://blackingastro.org/events/beat-the-bot-part-ii-can-clinicians-o
 utthink-ai-in-ibd/
SUMMARY:Beat the Bot. Part II. Can Clinicians Outthink AI in IBD?
DESCRIPTION:Who will come out on top? We're in round two of our series duri
 ng Crohn's and Colitis Awareness Week 2025 to see if IBD expert physicians
  can outhtink AI when it comes to common concerns and questions in IBD car
 e.
ATTACH;FMTTYPE=image/jpeg:https://blackingastro.org/wp-content/uploads/202
 5/12/CCAW-2025-PART-II.png
END:VEVENT
END:VCALENDAR