BEGIN:VCALENDAR
VERSION:2.0
PRODID:-//wp-events-plugin.com//7.2.3.1//EN
BEGIN:VEVENT
UID:66@blackingastro.org
DTSTART:20241028T234500Z
DTEND:20241029T014500Z
DTSTAMP:20250303T150610Z
URL:https://blackingastro.org/events/big-event-philly/
SUMMARY:B.I.G. EVENT – PHILLY
DESCRIPTION:We are excited to welcome our ABGH friends and family to an eve
 ning of networking\, engagement\, and community as we gather members\, all
 ies\, and supporters of ABGH’s mission and vision. ABGH is incredibly gr
 ateful for the generosity of its corporate members and welcome event spons
 orship for this heralded annual event.\n\nSpots are limited. Check your em
 ail for details on registration. RSVP required.
ATTACH;FMTTYPE=image/jpeg:https://blackingastro.org/wp-content/uploads/202
 4/07/big-philly-eventbrite-sq.jpg
CATEGORIES:ABGH Events
LOCATION:Pennsylvania Academy of the Fine Arts Philadelphia\, 118-128 N Bro
 ad St\, Philadelphia\, PA\, 19102\, United States
GEO:39.955615;-75.163476
X-APPLE-STRUCTURED-LOCATION;VALUE=URI;X-ADDRESS=118-128 N Broad St\, Philad
 elphia\, PA\, 19102\, United States;X-APPLE-RADIUS=100;X-TITLE=Pennsylvani
 a Academy of the Fine Arts Philadelphia:geo:39.955615,-75.163476
END:VEVENT
END:VCALENDAR