BEGIN:VCALENDAR
VERSION:2.0
PRODID:-//wp-events-plugin.com//7.2.3.1//EN
BEGIN:VEVENT
UID:91@blackingastro.org
DTSTART;VALUE=DATE:20251006
DTEND;VALUE=DATE:20251010
DTSTAMP:20250910T155138Z
URL:https://blackingastro.org/events/blackweek-forum-and-festival/
SUMMARY:BLACKWEEK Forum and Festival
DESCRIPTION:BLACKWEEK Forum and Festival brings together the most dynamic e
 xecutives\, entrepreneurs\, and thought leaders for real conversations abo
 ut the economic power of culture.
ATTACH;FMTTYPE=image/jpeg:https://blackingastro.org/wp-content/uploads/202
 5/09/ede59b22-f53c-1527-f254-053a1d60a8b5.jpg
END:VEVENT
END:VCALENDAR