BEGIN:VCALENDAR
VERSION:2.0
PRODID:-//wp-events-plugin.com//7.2.3.1//EN
BEGIN:VEVENT
UID:11@blackingastro.org
DTSTART:20240517T234500Z
DTEND:20240518T030000Z
DTSTAMP:20250303T150611Z
URL:https://blackingastro.org/events/bustin-a-gut-2024/
SUMMARY:Bustin’ A Gut 2024
DESCRIPTION:Medutainment: the process of laughing out yo’ seat while lear
 ning something about your health.\n\nBustin’ A Gut – where medical doc
 s and comics kick it to get folks comfortable with talking about all thing
 s digestive health. Come for the eats\, community\, and culture. Stay for 
 the “medutainment”.\n\nMC’d by Dave Helem\, comedian and writer on R
 ap Sh!t\, and featuring a special guest comedian we’ll be revealing soon
 \, ABGH gut health docs Drs. Janese Laster and Ed McDonald will answer you
 r questions about the gut\, how to prevent cancer\, and more all while hav
 ing a good laugh. You must be 21 years old or older to attend.
ATTACH;FMTTYPE=image/jpeg:https://blackingastro.org/wp-content/uploads/202
 4/05/BaG-SocialGraphics-OnSale-1200x630-20240301-1.jpg
CATEGORIES:ABGH Events
LOCATION:The Hamilton Live\, 600 14th St NW\, Washington\, DC\, 20005\, Uni
 ted States
GEO:38.897655;-77.032274
X-APPLE-STRUCTURED-LOCATION;VALUE=URI;X-ADDRESS=600 14th St NW\, Washington
 \, DC\, 20005\, United States;X-APPLE-RADIUS=100;X-TITLE=The Hamilton Live
 :geo:38.897655,-77.032274
END:VEVENT
END:VCALENDAR