BEGIN:VCALENDAR
VERSION:2.0
PRODID:-//wp-events-plugin.com//7.2.3.1//EN
BEGIN:VEVENT
UID:50@blackingastro.org
DTSTART:20230317T000000Z
DTEND:20230317T010000Z
DTSTAMP:20240612T184644Z
URL:https://blackingastro.org/events/colorectal-cancer-in-young-black-amer
 icans/
SUMMARY:Colorectal Cancer in Young Black Americans
DESCRIPTION:James Casey\, a current member of Trey Anastasio Band\, had per
 formed\, recorded\, produced and written with many of the world’s leadin
 g and most influential artists. As a patient advocate diagnosed with color
 ectal cancer at the age of 38\, his story of early age onset colorectal ca
 ncer needs to be told.
ATTACH;FMTTYPE=image/jpeg:https://blackingastro.org/wp-content/uploads/202
 4/06/Copy_of_ABGH_CRCAM_2023_with_James_Casey_1.png
CATEGORIES:ABGH Events
END:VEVENT
END:VCALENDAR