BEGIN:VCALENDAR
VERSION:2.0
PRODID:-//wp-events-plugin.com//7.2.3.1//EN
BEGIN:VEVENT
UID:74@blackingastro.org
DTSTART:20241027T230000Z
DTEND:20241028T003000Z
DTSTAMP:20250303T150610Z
URL:https://blackingastro.org/events/healio-disruptive-awards/
SUMMARY:Healio Disruptive Awards
DESCRIPTION:Join ABGH Founding Board Member and Healio Gastroenterology’s
  Disruptive Innovators Awards Ceremony co-host\, Dr. Ugo Iroku\, as we cel
 ebrate the winners! ABGH is proud to again support the award for “The Pa
 tient Voice”! Don’t miss it!
ATTACH;FMTTYPE=image/jpeg:https://blackingastro.org/wp-content/uploads/202
 4/10/di-sq.jpg
CATEGORIES:ABGH Events
LOCATION:The Notary Hotel\, Philadelphia\, Autograph Collection\, Grand Bal
 lroom\, 21 North Juniper Street\, Philadelphia\, PA\, 19107\, United State
 s
GEO:39.953158;-75.16206
X-APPLE-STRUCTURED-LOCATION;VALUE=URI;X-ADDRESS=21 North Juniper Street\, P
 hiladelphia\, PA\, 19107\, United States;X-APPLE-RADIUS=100;X-TITLE=The No
 tary Hotel\, Philadelphia\, Autograph Collection\, Grand Ballroom:geo:39.9
 53158,-75.16206
END:VEVENT
END:VCALENDAR