BEGIN:VCALENDAR
VERSION:2.0
PRODID:-//wp-events-plugin.com//7.2.3.1//EN
BEGIN:VEVENT
UID:72@blackingastro.org
DTSTART:20240912T140000Z
DTEND:20240912T150000Z
DTSTAMP:20250303T150610Z
URL:https://blackingastro.org/events/lets-talk-about-it-colorectal-cancer-
 in-the-black-community/
SUMMARY:Let’s Talk About It: Colorectal Cancer in the Black Community
DESCRIPTION:We invite you to attend Fight Colorectal Cancer’s upcoming pa
 nel “Let’s Talk About It: Colorectal Cancer in the Black Community” 
 on Thursday\, September 12th from 10:00-11:00 am. This conversation will h
 ighlight the unique experience of the Black community as it relates to col
 orectal cancer and how we can all play a role in changing the trajectory o
 f this disease.
ATTACH;FMTTYPE=image/jpeg:https://blackingastro.org/wp-content/uploads/202
 4/09/9.12.24-CRC-Panel-Flyer-scaled.jpg
CATEGORIES:ABGH Events,Colon Cancer Awareness Month
LOCATION:Marriot Marquis Washington\, DC - Howard University Room\, 901 Mas
 sachusetts Ave NW\, Washington\, DC\, 20001\, United States
GEO:38.90374;-77.024876
X-APPLE-STRUCTURED-LOCATION;VALUE=URI;X-ADDRESS=901 Massachusetts Ave NW\, 
 Washington\, DC\, 20001\, United States;X-APPLE-RADIUS=100;X-TITLE=Marriot
  Marquis Washington\, DC - Howard University Room:geo:38.90374,-77.024876
END:VEVENT
END:VCALENDAR