BEGIN:VCALENDAR
VERSION:2.0
PRODID:-//wp-events-plugin.com//7.2.3.1//EN
BEGIN:VEVENT
UID:67@blackingastro.org
DTSTART;VALUE=DATE:20240726
DTEND;VALUE=DATE:20240727
DTSTAMP:20250303T150611Z
URL:https://blackingastro.org/events/the-nexus-nurturing-excelling-and-uni
 fying-sisters-in-medicine-conference-2024-copy-copy/
SUMMARY:“Why GI?” A Speed-Dating Approach to Advancing DEI in Gastroent
 erology!
DESCRIPTION:Attention all Residents\, Fellows\, and Gastroenterologists in 
 the Atlanta Metropolitan area! You are invited to a unique and free event 
 designed to advance the field through diversity\, equity\, and inclusion.\
 n\nConnect with experts Color of Gastrointestinal Illnesses\, Inc. (COGI 
 – Co-Gee) and The Association of Black Gastroenterologists and Hepatolog
 ists (ABGH) to discuss the importance of diversity in GI practices and how
  we can work together to create more equitable healthcare.\n\nHors d’oeu
 vres and beverages will be provided!\n\nRegister TODAY!\n\nDon’t miss th
 is opportunity to network\, learn\, and contribute to a more inclusive fut
 ure in gastrointestinal healthcare. Let’s advance the field together!
ATTACH;FMTTYPE=image/jpeg:https://blackingastro.org/wp-content/uploads/202
 4/07/why-gi.jpg
CATEGORIES:ABGH Events
LOCATION:Hyatt Regency Atlanta\, 265 Peachtree Rd NE\, Atlanta\, GA\, 30303
 \, United States
X-APPLE-STRUCTURED-LOCATION;VALUE=URI;X-ADDRESS=265 Peachtree Rd NE\, Atlan
 ta\, GA\, 30303\, United States;X-APPLE-RADIUS=100;X-TITLE=Hyatt Regency A
 tlanta:geo:0,0
END:VEVENT
END:VCALENDAR